BEGIN:VCALENDAR
VERSION:2.0
PRODID:spatie/icalendar-generator
DESCRIPTION:Veranstaltungen von Schwabentor Heimat- und Geschichtsverein e.
 V.
X-WR-CALDESC:Veranstaltungen von Schwabentor Heimat- und Geschichtsverein e
 .V.
REFRESH-INTERVAL;VALUE=DURATION:PT1440M
X-PUBLISHED-TTL:PT1440M
BEGIN:VTIMEZONE
TZID:Europe/Berlin
BEGIN:STANDARD
DTSTART:20241027T030000Z
TZOFFSETFROM:+0200
TZOFFSETTO:+0100
END:STANDARD
BEGIN:DAYLIGHT
DTSTART:20250330T020000Z
TZOFFSETFROM:+0100
TZOFFSETTO:+0200
END:DAYLIGHT
END:VTIMEZONE
BEGIN:VTIMEZONE
TZID:UTC
BEGIN:STANDARD
DTSTART:20250726T082148Z
TZOFFSETFROM:+0000
TZOFFSETTO:+0000
END:STANDARD
END:VTIMEZONE
BEGIN:VEVENT
UID:483-131
DTSTAMP:20260422T082148Z
SUMMARY:Generalversammlung
LOCATION:Sportheim TSV Dennach Schwabentorstr. 40  Neuenbürg-Dennach  7530
 5
ORGANIZER;CN=Thomas Reimann:MAILTO:thomas@reimann.es
DTSTART;TZID=Europe/Berlin:20250322T190000
DTEND;TZID=Europe/Berlin:20250322T200000
X-ALT-DESC;FMTTYPE=TEXT/HTML:
CATEGORIES:Allgemein
URL;VALUE=URI:https://www.schwabentor.com/veranstaltungen/?mc_id=483&#038;v
 cal=483
METHOD:PUBLISH
END:VEVENT
END:VCALENDAR